BEGIN:VCALENDAR
PRODID:-//github.com/rianjs/ical.net//NONSGML ical.net 4.0//EN
VERSION:2.0
BEGIN:VTIMEZONE
TZID:Eastern Standard Time
X-LIC-LOCATION:America/New_York
BEGIN:STANDARD
DTSTART:20241103T020000
RRULE:FREQ=YEARLY;BYDAY=1SU;BYMONTH=11
TZNAME:EST
TZOFFSETFROM:-0400
TZOFFSETTO:-0500
END:STANDARD
BEGIN:DAYLIGHT
DTSTART:20250309T020000
RRULE:FREQ=YEARLY;BYDAY=2SU;BYMONTH=3
TZNAME:EDT
TZOFFSETFROM:-0500
TZOFFSETTO:-0400
END:DAYLIGHT
END:VTIMEZONE
BEGIN:VEVENT
DESCRIPTION:For more information visit https://rockheadsusa.com/events/
DTEND;TZID=Eastern Standard Time:20260918T010000
DTSTAMP:20260425T033946Z
DTSTART;TZID=Eastern Standard Time:20260916T000000
LOCATION:Unknown Portland\, OR
ORGANIZER;CN=;SENT-BY="mailto:":
SEQUENCE:0
SUMMARY:ISFA: Rockheads Group Fall Event
UID:498356ff-1899-4c3c-9a30-4e8c074cff3f
END:VEVENT
END:VCALENDAR
