BEGIN:VCALENDAR
PRODID:-//github.com/rianjs/ical.net//NONSGML ical.net 4.0//EN
VERSION:2.0
BEGIN:VTIMEZONE
TZID:Eastern Standard Time
X-LIC-LOCATION:America/New_York
BEGIN:STANDARD
DTSTART:20241103T020000
RRULE:FREQ=YEARLY;BYDAY=1SU;BYMONTH=11
TZNAME:EST
TZOFFSETFROM:-0400
TZOFFSETTO:-0500
END:STANDARD
BEGIN:DAYLIGHT
DTSTART:20250309T020000
RRULE:FREQ=YEARLY;BYDAY=2SU;BYMONTH=3
TZNAME:EDT
TZOFFSETFROM:-0500
TZOFFSETTO:-0400
END:DAYLIGHT
END:VTIMEZONE
BEGIN:VEVENT
DESCRIPTION:For more information visit https://artisan-counters.com/about/
DTEND;TZID=Eastern Standard Time:20261008T010000
DTSTAMP:20260425T041255Z
DTSTART;TZID=Eastern Standard Time:20261007T000000
LOCATION:Unknown Unknown\, Unknown
ORGANIZER;CN=;SENT-BY="mailto:":
SEQUENCE:0
SUMMARY:ISFA: Artisan Shop Tour
UID:b1bb73ac-dd76-4817-8ecc-617a576a868a
END:VEVENT
END:VCALENDAR
