BEGIN:VCALENDAR
PRODID:-//github.com/rianjs/ical.net//NONSGML ical.net 4.0//EN
VERSION:2.0
BEGIN:VTIMEZONE
TZID:Eastern Standard Time
X-LIC-LOCATION:America/New_York
BEGIN:STANDARD
DTSTART:20241103T020000
RRULE:FREQ=YEARLY;BYDAY=1SU;BYMONTH=11
TZNAME:EST
TZOFFSETFROM:-0400
TZOFFSETTO:-0500
END:STANDARD
BEGIN:DAYLIGHT
DTSTART:20250309T020000
RRULE:FREQ=YEARLY;BYDAY=2SU;BYMONTH=3
TZNAME:EDT
TZOFFSETFROM:-0500
TZOFFSETTO:-0400
END:DAYLIGHT
END:VTIMEZONE
BEGIN:VEVENT
DESCRIPTION:Fabricator Forums is an ISFA event for fabricators and industr
 y partners
DTEND;TZID=Eastern Standard Time:20260514T183000
DTSTAMP:20260421T085609Z
DTSTART;TZID=Eastern Standard Time:20260513T100000
LOCATION:Daltile 5185 Richmond Road Bedford Heights\, OH 44146-1330 United
  States
ORGANIZER;CN=;SENT-BY="mailto:":
SEQUENCE:0
SUMMARY:ISFA: Fabricator Forum - Cleveland\, OH
UID:cc429c1c-d2c3-49de-b662-1d9c96b5e6b2
END:VEVENT
END:VCALENDAR
