BEGIN:VCALENDAR
PRODID:-//github.com/rianjs/ical.net//NONSGML ical.net 4.0//EN
VERSION:2.0
BEGIN:VTIMEZONE
TZID:Eastern Standard Time
X-LIC-LOCATION:America/New_York
BEGIN:STANDARD
DTSTART:20241103T020000
RRULE:FREQ=YEARLY;BYDAY=1SU;BYMONTH=11
TZNAME:EST
TZOFFSETFROM:-0400
TZOFFSETTO:-0500
END:STANDARD
BEGIN:DAYLIGHT
DTSTART:20250309T020000
RRULE:FREQ=YEARLY;BYDAY=2SU;BYMONTH=3
TZNAME:EDT
TZOFFSETFROM:-0500
TZOFFSETTO:-0400
END:DAYLIGHT
END:VTIMEZONE
BEGIN:VEVENT
DESCRIPTION:Marmomac is the most important world fair dedicated to the ent
 ire stone pro
DTEND;TZID=Eastern Standard Time;VALUE=DATE:20260926
DTSTAMP:20260420T092234Z
DTSTART;TZID=Eastern Standard Time;VALUE=DATE:20260922
LOCATION:Verona\, VR\, Italy Verona\, Veneto Italy
ORGANIZER;CN=;SENT-BY="mailto:":
SEQUENCE:0
SUMMARY:ISFA: Marmo+Mac
UID:2cba2d62-56b2-4564-aa42-9c92a7941f9f
END:VEVENT
END:VCALENDAR
